BEGIN:VCALENDAR
VERSION:2.0
PRODID:-//microBEnet: the microbiology of the Built Environment network - ECPv4.6.18//NONSGML v1.0//EN
CALSCALE:GREGORIAN
METHOD:PUBLISH
X-WR-CALNAME:microBEnet: the microbiology of the Built Environment network
X-ORIGINAL-URL:https://microbe.net
X-WR-CALDESC:Events for microBEnet: the microbiology of the Built Environment network
BEGIN:VEVENT
DTSTART;VALUE=DATE:20170429
DTEND;VALUE=DATE:20170430
DTSTAMP:20260422T101525
CREATED:20170323T205321Z
LAST-MODIFIED:20170411T171401Z
UID:51667-1493424000-1493510399@microbe.net
SUMMARY:18th Annual Microbiology Student Symposium (Berkeley\, CA)
DESCRIPTION:What: Microbiology Student Symposium at UC Berkeley (free & credit as local conf for DE-HMI students) \nWhen: April 29th\, 2017\n9 AM – 5 PM\, reception to follow \nWhere: David Brower Center\n2150 Allston Way\, Suite 100\, Berkeley\, CA 94704 \nKeynote speakers:  Bonnie Bassler (Princeton) and Edward DeLong (U Hawaii)\n\nMore info & registration:  http://microstudentgroup.weebly.com/2017-microbiology-student-symposium.html\nTwitterFacebookPress ThisLinkedInEmailMorePrintRedditWhatsAppTumblrPocketPinterestLike this:Like Loading...\n\n	Related\n
URL:https://microbe.net/event/18th-annual-microbiology-student-symposium-berkeley/
CATEGORIES:Conference
END:VEVENT
END:VCALENDAR