BEGIN:VCALENDAR
VERSION:2.0
PRODID:-//microBEnet: the microbiology of the Built Environment network - ECPv4.6.18//NONSGML v1.0//EN
CALSCALE:GREGORIAN
METHOD:PUBLISH
X-WR-CALNAME:microBEnet: the microbiology of the Built Environment network
X-ORIGINAL-URL:https://microbe.net
X-WR-CALDESC:Events for microBEnet: the microbiology of the Built Environment network
BEGIN:VEVENT
DTSTART;VALUE=DATE:20140619
DTEND;VALUE=DATE:20140623
DTSTAMP:20260421T062053
CREATED:20140117T070446Z
LAST-MODIFIED:20140117T070446Z
UID:15022-1403136000-1403481599@microbe.net
SUMMARY:1st ASM Conference on Experimental Microbial Evolution
DESCRIPTION:From meeting site: \nThe past quarter century has witnessed an explosive increase in the use of microorganisms to study evolution experimentally. Experimental microbial evolution (EME) is a vibrant and expanding field\, which over the last decade has assimilated\, and in many cases pioneered genomic tools for high-throughput analysis of clones and populations. EME is broadly integrative\, as connecting genotype to fitness requires detailed understanding of molecular biology\, physiology and ecology. Indeed\, some of the most exciting work in this burgeoning field is being undertaken by a new generation of systems biologists\, whose goal is to do the hard work of connecting genotype to phenotype by carefully reading out and interpreting “-omics” data under a variety of experimental conditions.  Biologists using microbes ranging from viruses to Bacteria to microbial Eukaryotes are illuminating the mechanisms of evolution at a resolution that Darwin\, Delbruck and Dobzhansky could scarcely have imagined.  Plan now to join scientific leaders in Washington\, DC in June for this vibrant new ASM Conference! \nTwitterFacebookPress ThisLinkedInEmailMorePrintRedditWhatsAppTumblrPocketPinterestLike this:Like Loading...\n\n	Related\n
URL:https://microbe.net/event/1st-asm-conference-on-experimental-microbial-evolution/
LOCATION:Washington\, DC\, United States
CATEGORIES:Conference
END:VEVENT
END:VCALENDAR