BEGIN:VCALENDAR
VERSION:2.0
PRODID:-//microBEnet: the microbiology of the Built Environment network - ECPv4.6.18//NONSGML v1.0//EN
CALSCALE:GREGORIAN
METHOD:PUBLISH
X-WR-CALNAME:microBEnet: the microbiology of the Built Environment network
X-ORIGINAL-URL:https://microbe.net
X-WR-CALDESC:Events for microBEnet: the microbiology of the Built Environment network
BEGIN:VEVENT
DTSTART;TZID=America/Los_Angeles:20140922T080000
DTEND;TZID=America/Los_Angeles:20140924T170000
DTSTAMP:20260423T094201
CREATED:20140604T145905Z
LAST-MODIFIED:20140604T145905Z
UID:15687-1411372800-1411578000@microbe.net
SUMMARY:2014 I2SL Annual Conference (Orlando\, FL)
DESCRIPTION:2014 I2SL Annual Conference \nWhen:\nSeptember 22-24\, 2014 \nWhere:\nCaribe Royale\nOrlando\, Florida \nDetails from Event Web Site \nThe 2014 International Institute for Sustainable Laboratories (I2SL) Annual Conference is taking place September 22 through 24\, 2014\, at the Caribe Royale in Orlando\, Florida. Would National Clearinghouse for Educational Facilities be willing to help promote the event? \nThe I2SL Annual Conference (formerly the Labs21® Annual Conference) is the nation’s largest gathering of professionals who design\, build\, and operate sustainable laboratories and related high-tech buildings. The conference provides a platform for sharing information and networking with others in this niche community. \nThis year’s conference will feature a Technology and Services Fair\, symposia\, technical sessions\, and technology demonstrations that highlight the most cutting-edge sustainable high-tech facility technologies and techniques. \nFor additional information on the 2014 I2SL Annual Conference\, visit I2SL’s website. \nTwitterFacebookPress ThisLinkedInEmailMorePrintRedditWhatsAppTumblrPocketPinterestLike this:Like Loading...\n\n	Related\n
URL:https://microbe.net/event/2014-i2sl-annual-conference-orlando-fl/
CATEGORIES:Conference
END:VEVENT
END:VCALENDAR