BEGIN:VCALENDAR
VERSION:2.0
PRODID:-//microBEnet: the microbiology of the Built Environment network - ECPv4.6.18//NONSGML v1.0//EN
CALSCALE:GREGORIAN
METHOD:PUBLISH
X-WR-CALNAME:microBEnet: the microbiology of the Built Environment network
X-ORIGINAL-URL:https://microbe.net
X-WR-CALDESC:Events for microBEnet: the microbiology of the Built Environment network
BEGIN:VEVENT
DTSTART;VALUE=DATE:20160724
DTEND;VALUE=DATE:20160731
DTSTAMP:20260421T050251
CREATED:20160601T183408Z
LAST-MODIFIED:20160601T185745Z
UID:46494-1469318400-1469923199@microbe.net
SUMMARY:2016 SIMB Annual Meeting and Exhibition (New Orleans\, LA)
DESCRIPTION:\n\n2016 SIMB Annual Meeting and Exhibition\nConference Dates: July 24 – 30\, 2016\nLocation: New Orleans\, LA \n\nWebsite \n\nSession of interest: \nApplying omics to wastewater treatment\nThursday\, July 28\, 2016: 2:00 PM-5:30 PM\n\n\nConveners:\nSteven W. Singer  – Lawrence Berkeley National Laboratory and Rose Kantor  – University of California Berkeley\n\n\nWastewater generated from municipal and industrial sources is both an environmental challenge and an opportunity for biotechnological innovation. Microbial communities are central to the processing of wastewater and controlling the dynamics and outputs of these wastewater communities is critical to harnessing the potential of wastewater. Recent advances in metagenomics\, metatranscriptomics and metaproteomics have provided important new insights into the functioning of these communities and provided an important testing ground for new methods in ‘omics technologies. A key insight of these ‘omics methods is the important role that uncultivated microbes play in the wastewater communities. In this session\, we will explore the application of ‘omics technologies to wastewater treatment and highlight the functional roles of uncultivated microbial populations. \nTwitterFacebookPress ThisLinkedInEmailMorePrintRedditWhatsAppTumblrPocketPinterestLike this:Like Loading...\n\n	Related\n
URL:https://microbe.net/event/2016-simb-annual-meeting-and-exhibition-new-orleans-la/
CATEGORIES:Conference
END:VEVENT
END:VCALENDAR