BEGIN:VCALENDAR
VERSION:2.0
PRODID:-//microBEnet: the microbiology of the Built Environment network - ECPv4.6.18//NONSGML v1.0//EN
CALSCALE:GREGORIAN
METHOD:PUBLISH
X-WR-CALNAME:microBEnet: the microbiology of the Built Environment network
X-ORIGINAL-URL:https://microbe.net
X-WR-CALDESC:Events for microBEnet: the microbiology of the Built Environment network
BEGIN:VEVENT
DTSTART;TZID=America/Los_Angeles:20170510T080000
DTEND;TZID=America/Los_Angeles:20170510T170000
DTSTAMP:20260424T110404
CREATED:20170510T161116Z
LAST-MODIFIED:20170510T161116Z
UID:52109-1494403200-1494435600@microbe.net
SUMMARY:2017 Host Microbe Interactions Conference (Tahoe City\, CA)
DESCRIPTION:2017 Host Microbe Interactions Conference \nOctober 19 – 20\, 2017 \nRegistration Opens August 2017. \n  \n  \nTwitterFacebookPress ThisLinkedInEmailMorePrintRedditWhatsAppTumblrPocketPinterestLike this:Like Loading...\n\n	Related\n
URL:https://microbe.net/event/2017-host-microbe-interactions-conference-tahoe-city-ca/
CATEGORIES:Conference
END:VEVENT
END:VCALENDAR