BEGIN:VCALENDAR
VERSION:2.0
PRODID:-//microBEnet: the microbiology of the Built Environment network - ECPv4.6.18//NONSGML v1.0//EN
CALSCALE:GREGORIAN
METHOD:PUBLISH
X-WR-CALNAME:microBEnet: the microbiology of the Built Environment network
X-ORIGINAL-URL:https://microbe.net
X-WR-CALDESC:Events for microBEnet: the microbiology of the Built Environment network
BEGIN:VEVENT
DTSTART;VALUE=DATE:20140604
DTEND;VALUE=DATE:20140607
DTSTAMP:20260421T080116
CREATED:20140219T144147Z
LAST-MODIFIED:20140317T205027Z
UID:15187-1401840000-1402099199@microbe.net
SUMMARY:3rd Annual Sloan MBE meeting in Boulder CO.
DESCRIPTION:June 4 – 6\, 3rd Annual Sloan MBE meeting in Boulder CO. \nTwitterFacebookPress ThisLinkedInEmailMorePrintRedditWhatsAppTumblrPocketPinterestLike this:Like Loading...\n\n	Related\n
URL:https://microbe.net/event/3rd-annual-sloan-mbe-meeting-in-boulder-co/
CATEGORIES:microBEnet events, meetings, workshops
END:VEVENT
END:VCALENDAR