BEGIN:VCALENDAR
VERSION:2.0
PRODID:-//microBEnet: the microbiology of the Built Environment network - ECPv4.6.18//NONSGML v1.0//EN
CALSCALE:GREGORIAN
METHOD:PUBLISH
X-WR-CALNAME:microBEnet: the microbiology of the Built Environment network
X-ORIGINAL-URL:https://microbe.net
X-WR-CALDESC:Events for microBEnet: the microbiology of the Built Environment network
BEGIN:VEVENT
DTSTART;TZID=America/Los_Angeles:20120216T080000
DTEND;TZID=America/Los_Angeles:20120220T170000
DTSTAMP:20260421T152415
CREATED:20130508T002744Z
LAST-MODIFIED:20130508T002744Z
UID:2375-1329379200-1329757200@microbe.net
SUMMARY:AAAS Meeting 2012 (Vancouver)
DESCRIPTION:AAAS Meeting 2012 (Vancouver) \nFebruary 16 – 20\, 2012 \nFollow-Up Blog Post \nTwitterFacebookPress ThisLinkedInEmailMorePrintRedditWhatsAppTumblrPocketPinterestLike this:Like Loading...\n\n	Related\n
URL:https://microbe.net/event/aaas-meeting-2012-vancouver/
CATEGORIES:Conference,microBEnet events, meetings, workshops
END:VEVENT
END:VCALENDAR