BEGIN:VCALENDAR
VERSION:2.0
PRODID:-//microBEnet: the microbiology of the Built Environment network - ECPv4.6.18//NONSGML v1.0//EN
CALSCALE:GREGORIAN
METHOD:PUBLISH
X-WR-CALNAME:microBEnet: the microbiology of the Built Environment network
X-ORIGINAL-URL:https://microbe.net
X-WR-CALDESC:Events for microBEnet: the microbiology of the Built Environment network
BEGIN:VEVENT
DTSTART;VALUE=DATE:20150514
DTEND;VALUE=DATE:20150517
DTSTAMP:20260421T030523
CREATED:20140710T134241Z
LAST-MODIFIED:20140710T134241Z
UID:15829-1431561600-1431820799@microbe.net
SUMMARY:AIA Convention 2015 (Atlanta\, GA)
DESCRIPTION:AIA Convention 2015\nDates:  May 14 – 16\, 2015\nAtlanta\, GA \nFrom event web site:\nThank you for responding to the AIA Convention 2015 Call for Proposals. We are thrilled that you are interested in educating our members. The AIA Convention 2015 will be held Thursday\, May 14th through Saturday\, May 16th at the Georgia World Congress Center in Atlanta\, GA. For more details on the full process and proposal deadlines\, please click here.  \nTwitterFacebookPress ThisLinkedInEmailMorePrintRedditWhatsAppTumblrPocketPinterestLike this:Like Loading...\n\n	Related\n
URL:https://microbe.net/event/aia-convention-2015-atlanta-ga/
CATEGORIES:Conference
END:VEVENT
END:VCALENDAR