BEGIN:VCALENDAR
VERSION:2.0
PRODID:-//microBEnet: the microbiology of the Built Environment network - ECPv4.6.18//NONSGML v1.0//EN
CALSCALE:GREGORIAN
METHOD:PUBLISH
X-WR-CALNAME:microBEnet: the microbiology of the Built Environment network
X-ORIGINAL-URL:https://microbe.net
X-WR-CALDESC:Events for microBEnet: the microbiology of the Built Environment network
BEGIN:VEVENT
DTSTART;VALUE=DATE:20140609
DTEND;VALUE=DATE:20140611
DTSTAMP:20260421T044950
CREATED:20140326T132447Z
LAST-MODIFIED:20140326T133209Z
UID:15370-1402272000-1402444799@microbe.net
SUMMARY:Air Sensors 2014:  A New Frontier (North Carolina)
DESCRIPTION:\n\nEPA’s Next Generation Air Monitoring Workshop Series\nAir Sensors 2014: New Frontier\nMonitoring Technology for Today’s World\n\nJune 9 & 10\, 2014\nEPA’s Research Triangle Park Campus\n\n109 T.W. Alexander Drive\nResearch Triangle Park\, North Carolina 27711\n\n\n\n\n\nJoin us for EPA’s fourth workshop to address the opportunities and challenges associated with the next generation of air quality monitoring technology and data.\n\n\n\nLearn about and discuss:\n\nHot new technologies\nResearch opportunities\, partnerships\, and collaboration\nPerformance of low-cost sensors\nData collection\, storage\, and sharing\nCitizen science and community-based monitoring\n\nMore information can be found on the web site. \nTwitterFacebookPress ThisLinkedInEmailMorePrintRedditWhatsAppTumblrPocketPinterestLike this:Like Loading...\n\n	Related\n
URL:https://microbe.net/event/air-sensors-2014-a-new-frontier-north-carolina/
CATEGORIES:Conference
END:VEVENT
END:VCALENDAR