BEGIN:VCALENDAR
VERSION:2.0
PRODID:-//microBEnet: the microbiology of the Built Environment network - ECPv4.6.18//NONSGML v1.0//EN
CALSCALE:GREGORIAN
METHOD:PUBLISH
X-WR-CALNAME:microBEnet: the microbiology of the Built Environment network
X-ORIGINAL-URL:https://microbe.net
X-WR-CALDESC:Events for microBEnet: the microbiology of the Built Environment network
BEGIN:VEVENT
DTSTART;VALUE=DATE:20140213
DTEND;VALUE=DATE:20140218
DTSTAMP:20260421T094259
CREATED:20131014T014145Z
LAST-MODIFIED:20131014T014318Z
UID:14749-1392249600-1392681599@microbe.net
SUMMARY:American Association for the Advancement of Science (AAAS) 2014
DESCRIPTION:American Association for the Advancement of Science (AAAS) \nFebruary 13 – 17\, 2014 \nTwitterFacebookPress ThisLinkedInEmailMorePrintRedditWhatsAppTumblrPocketPinterestLike this:Like Loading...\n\n	Related\n
URL:https://microbe.net/event/american-association-for-the-advancement-of-science-aaas-2014/
CATEGORIES:Conference
END:VEVENT
END:VCALENDAR