BEGIN:VCALENDAR
VERSION:2.0
PRODID:-//microBEnet: the microbiology of the Built Environment network - ECPv4.6.18//NONSGML v1.0//EN
CALSCALE:GREGORIAN
METHOD:PUBLISH
X-WR-CALNAME:microBEnet: the microbiology of the Built Environment network
X-ORIGINAL-URL:https://microbe.net
X-WR-CALDESC:Events for microBEnet: the microbiology of the Built Environment network
BEGIN:VEVENT
DTSTART;VALUE=DATE:20130214
DTEND;VALUE=DATE:20130219
DTSTAMP:20260421T124635
CREATED:20120701T175550Z
LAST-MODIFIED:20120705T151743Z
UID:1109-1360800000-1361231999@microbe.net
SUMMARY:American Association for the Advancement of Science (Boston)
DESCRIPTION:American Association for the Advancement of Science (Boston) Annual Meeting Feb 14-18 2013 \n  \nTwitterFacebookPress ThisLinkedInEmailMorePrintRedditWhatsAppTumblrPocketPinterestLike this:Like Loading...\n\n	Related\n
URL:https://microbe.net/event/american-association-for-the-advancement-of-science-boston/
LOCATION:Select a Country:
CATEGORIES:Conference
END:VEVENT
END:VCALENDAR