BEGIN:VCALENDAR
VERSION:2.0
PRODID:-//microBEnet: the microbiology of the Built Environment network - ECPv4.6.18//NONSGML v1.0//EN
CALSCALE:GREGORIAN
METHOD:PUBLISH
X-WR-CALNAME:microBEnet: the microbiology of the Built Environment network
X-ORIGINAL-URL:https://microbe.net
X-WR-CALDESC:Events for microBEnet: the microbiology of the Built Environment network
BEGIN:VEVENT
DTSTART;VALUE=DATE:20130610
DTEND;VALUE=DATE:20130621
DTSTAMP:20260421T125155
CREATED:20120705T164458Z
LAST-MODIFIED:20120705T164458Z
UID:1140-1370822400-1371772799@microbe.net
SUMMARY:Analyzing Next-Generation Sequencing Data
DESCRIPTION:MSU NGS Summer Course 2013:\nAnalyzing Next-Generation Sequencing Data\n\n\nTwitterFacebookPress ThisLinkedInEmailMorePrintRedditWhatsAppTumblrPocketPinterestLike this:Like Loading...\n\n	Related\n
URL:https://microbe.net/event/analyzing-next-generation-sequencing-data/
LOCATION:Michigan State University\, Michigan\, United States
CATEGORIES:Training
END:VEVENT
END:VCALENDAR