BEGIN:VCALENDAR
VERSION:2.0
PRODID:-//microBEnet: the microbiology of the Built Environment network - ECPv4.6.18//NONSGML v1.0//EN
CALSCALE:GREGORIAN
METHOD:PUBLISH
X-WR-CALNAME:microBEnet: the microbiology of the Built Environment network
X-ORIGINAL-URL:https://microbe.net
X-WR-CALDESC:Events for microBEnet: the microbiology of the Built Environment network
BEGIN:VEVENT
DTSTART;VALUE=DATE:20130522
DTEND;VALUE=DATE:20130525
DTSTAMP:20260421T123215
CREATED:20121019T132427Z
LAST-MODIFIED:20121019T132609Z
UID:1486-1369180800-1369439999@microbe.net
SUMMARY:Annual Meeting:  Sloan Microbiology of the Built Environment (Boulder\, Co)
DESCRIPTION:Annual Meeting:  Sloan Microbiology of the Built Environment \nMay 22-24\, 2013 \nBoulder\, CO \nTwitterFacebookPress ThisLinkedInEmailMorePrintRedditWhatsAppTumblrPocketPinterestLike this:Like Loading...\n\n	Related\n
URL:https://microbe.net/event/annual-meeting-sloan-microbiology-of-the-built-environment-boulder-co/
LOCATION:Boulder\, \, CO\, Select a Country:
CATEGORIES:Conference
END:VEVENT
END:VCALENDAR