BEGIN:VCALENDAR
VERSION:2.0
PRODID:-//microBEnet: the microbiology of the Built Environment network - ECPv4.6.18//NONSGML v1.0//EN
CALSCALE:GREGORIAN
METHOD:PUBLISH
X-WR-CALNAME:microBEnet: the microbiology of the Built Environment network
X-ORIGINAL-URL:https://microbe.net
X-WR-CALDESC:Events for microBEnet: the microbiology of the Built Environment network
BEGIN:VEVENT
DTSTART;VALUE=DATE:20140628
DTEND;VALUE=DATE:20140703
DTSTAMP:20260421T044818
CREATED:20140325T044402Z
LAST-MODIFIED:20140326T133230Z
UID:15350-1403913600-1404345599@microbe.net
SUMMARY:ASHRAE 2014 Annual Conference
DESCRIPTION:From the web site: \nASHRAE is seeking programs for its 2014 Annual Conference in Seattle\, Wash.\, June 28-July 2\, 2014. Seminar and forum submissions will open January 6\, 2014. \nThe Conference addresses broad topics in the application of technology to practice\, specific applications in ground source heat pumps\, O&M and indoor environmental quality\, as well as new reports on research taking place worldwide. \nTwitterFacebookPress ThisLinkedInEmailMorePrintRedditWhatsAppTumblrPocketPinterestLike this:Like Loading...\n\n	Related\n
URL:https://microbe.net/event/ashrae-2014-annual-conference/
CATEGORIES:Conference
END:VEVENT
END:VCALENDAR