BEGIN:VCALENDAR
VERSION:2.0
PRODID:-//microBEnet: the microbiology of the Built Environment network - ECPv4.6.18//NONSGML v1.0//EN
CALSCALE:GREGORIAN
METHOD:PUBLISH
X-WR-CALNAME:microBEnet: the microbiology of the Built Environment network
X-ORIGINAL-URL:https://microbe.net
X-WR-CALDESC:Events for microBEnet: the microbiology of the Built Environment network
BEGIN:VEVENT
DTSTART;VALUE=DATE:20140517
DTEND;VALUE=DATE:20140521
DTSTAMP:20260421T093703
CREATED:20120713T165950Z
LAST-MODIFIED:20130829T151756Z
UID:1192-1400284800-1400630399@microbe.net
SUMMARY:ASM 2014: May 17 - 20 (Boston)
DESCRIPTION:asm2014\n114th General Meeting\nMay 17-20\, 2014\nBoston\, Massachusetts \nInformation \n  \n  \n  \nTwitterFacebookPress ThisLinkedInEmailMorePrintRedditWhatsAppTumblrPocketPinterestLike this:Like Loading...\n\n	Related\n
URL:https://microbe.net/event/asm-2014-may-17-20-boston/
LOCATION:Boston\, MA
CATEGORIES:Conference
END:VEVENT
END:VCALENDAR