BEGIN:VCALENDAR
VERSION:2.0
PRODID:-//microBEnet: the microbiology of the Built Environment network - ECPv4.6.18//NONSGML v1.0//EN
CALSCALE:GREGORIAN
METHOD:PUBLISH
X-WR-CALNAME:microBEnet: the microbiology of the Built Environment network
X-ORIGINAL-URL:https://microbe.net
X-WR-CALDESC:Events for microBEnet: the microbiology of the Built Environment network
BEGIN:VEVENT
DTSTART;VALUE=DATE:20150530
DTEND;VALUE=DATE:20150603
DTSTAMP:20260421T061815
CREATED:20131014T015408Z
LAST-MODIFIED:20140326T133849Z
UID:14753-1432944000-1433289599@microbe.net
SUMMARY:ASM 2015
DESCRIPTION:asm 2015\n115th General Meeting\nMay 30 — June 2\, 2015\nNew Orleans\, LA \n  \nTwitterFacebookPress ThisLinkedInEmailMorePrintRedditWhatsAppTumblrPocketPinterestLike this:Like Loading...\n\n	Related\n
URL:https://microbe.net/event/asm-2015/
LOCATION:New Orleans\, United States
CATEGORIES:Conference
END:VEVENT
END:VCALENDAR