BEGIN:VCALENDAR
VERSION:2.0
PRODID:-//microBEnet: the microbiology of the Built Environment network - ECPv4.6.18//NONSGML v1.0//EN
CALSCALE:GREGORIAN
METHOD:PUBLISH
X-WR-CALNAME:microBEnet: the microbiology of the Built Environment network
X-ORIGINAL-URL:https://microbe.net
X-WR-CALDESC:Events for microBEnet: the microbiology of the Built Environment network
BEGIN:VEVENT
DTSTART;VALUE=DATE:20140127
DTEND;VALUE=DATE:20140130
DTSTAMP:20260421T075949
CREATED:20140118T080516Z
LAST-MODIFIED:20140118T080516Z
UID:15026-1390780800-1391039999@microbe.net
SUMMARY:ASM Biodefense and Emerging Diseases Meeting
DESCRIPTION:From the meeting web site \nThe ASM Biodefense and Emerging Diseases Research Meeting brings together individuals who are carrying out research to defend against the growing threat of bioterrorism and decision makers shaping the future biodefense research agenda\, recognizing that emerging infectious diseases serve as a paradigm for handling the public threat of bioterrorism. \nTwitterFacebookPress ThisLinkedInEmailMorePrintRedditWhatsAppTumblrPocketPinterestLike this:Like Loading...\n\n	Related\n
URL:https://microbe.net/event/asm-biodefense-and-emerging-diseases-meeting/
LOCATION:Washington\, DC\, United States
CATEGORIES:Conference
END:VEVENT
END:VCALENDAR