BEGIN:VCALENDAR
VERSION:2.0
PRODID:-//microBEnet: the microbiology of the Built Environment network - ECPv4.6.18//NONSGML v1.0//EN
CALSCALE:GREGORIAN
METHOD:PUBLISH
X-WR-CALNAME:microBEnet: the microbiology of the Built Environment network
X-ORIGINAL-URL:https://microbe.net
X-WR-CALDESC:Events for microBEnet: the microbiology of the Built Environment network
BEGIN:VEVENT
DTSTART;VALUE=DATE:20160616
DTEND;VALUE=DATE:20160621
DTSTAMP:20260421T031340
CREATED:20150824T154859Z
LAST-MODIFIED:20150824T154859Z
UID:39571-1466035200-1466467199@microbe.net
SUMMARY:ASM Microbe 2016 (Boston\, MA)
DESCRIPTION:Two premier ASM meetings are integrating to create a forum unlike any other! \nIntegrating ASM’s two most popular events\, General Meeting and ICAAC\, the all-new ASM Microbe 2016 (June 16—20\, 2016\, Boston\, MA) showcases the best microbial sciences in the world and provides a one-of-a-kind forum to explore the complete spectrum of microbiology from basic science to translation and application. \nLearn\, connect\, and advance at ASM Microbe 2016! \nTwitterFacebookPress ThisLinkedInEmailMorePrintRedditWhatsAppTumblrPocketPinterestLike this:Like Loading...\n\n	Related\n
URL:https://microbe.net/event/asm-microbe-2016-boston-ma/
CATEGORIES:Conference
END:VEVENT
END:VCALENDAR