BEGIN:VCALENDAR
VERSION:2.0
PRODID:-//microBEnet: the microbiology of the Built Environment network - ECPv4.6.18//NONSGML v1.0//EN
CALSCALE:GREGORIAN
METHOD:PUBLISH
X-WR-CALNAME:microBEnet: the microbiology of the Built Environment network
X-ORIGINAL-URL:https://microbe.net
X-WR-CALDESC:Events for microBEnet: the microbiology of the Built Environment network
BEGIN:VEVENT
DTSTART;VALUE=DATE:20170601
DTEND;VALUE=DATE:20170606
DTSTAMP:20260421T175912
CREATED:20170402T002653Z
LAST-MODIFIED:20170402T002653Z
UID:51801-1496275200-1496707199@microbe.net
SUMMARY:ASM Microbe 2017
DESCRIPTION:\nWhats New\nTHE SCIENCE \n“Based on feedback\, we’ve created ways for you to navigate ASM Microbe 2017 easily\, find and share cutting-edge research\, and maximize your time: \n\nMore abstract-based oral presentations showcasing outstanding research.\nMultidisciplinary plenary sessions that bring the tracks together – combining clinical and basic science.\nEasy ways to find the science you’re looking for with more intuitive tracks and the ability to search/view sessions by sub-track.\nEnhanced Track Hubs with a centralized location on the Exhibit Hall Floor.\nEverything you are looking for in one venue.\n\nWELLNESS ACTIVITIES \nASM Microbe will offer opportunities to focus on your health and fitness. Complimentary Yoga classes and a Running Tour – a calories burning guided tour through the French Quarter\, provided by The Sweat Social\, will be offered to attendees on Saturday and Sunday mornings at the New Orleans Marriott. \nYoga \nSaturday\, June 3\, 6:00 a.m. – 7:00 a.m.\, New Orleans Marriott\nSunday\, June 4\, 6:00 a.m. – 7:00 a.m.\, New Orleans Marriott \nRunning Tour \nSaturday\, June 3\, 6:00 a.m. \nRunners will meet and depart from the New Orleans Marriott lobby.  \nCITY TOUR \nThursday\, June 1\, 2017\n$48.00 per person\nMinimum required for tour: 30 people\nBus will depart from Morial Convention Center\, Lobby D entrance at 1:30 p.m. and will return at 4:30p.m. \nTickets are available for purchase during the online registration process only. Tickets are non-refundable. \nTravel through three centuries of history\, legends and romance as you encounter “The City That Care Forgot!” Your tour begins at Jackson Square with some French Quarter history and continues along Esplanade. This elegant French Avenue lined with large\, Victorian houses leads you from the French Quarter to City Park. Stop at St. Louis #3 Cemetery\, where you will learn about the above ground burial system\, the misfortunes that took the lives of many in early New Orleans and also the culture of jazz funerals. Marvel at stories of voodoo and piracy on Bayou St. John\, the waterway used by Jean Lafitte and his band of pirates\, as the tour makes its way to City Park\, one of the ten largest urban parks in America. City Park’s many attractions are nestled among the shadows of the largest collection of ancient oak trees. Stone foot bridges cross lagoons in this picture-perfect setting in 1\,300 lush acres. At this stop you’ll have the choice to purchase café au lait and beignets at Morning Call Café (cash only) or explore the free five acre sculpture garden. Continue on to New Orleans’ second most famous street—St. Charles Avenue\, the oak-lined avenue of American elegance. Following the streetcar route\, the first public transportation system in the United States\, you will access the Uptown area. Here you will see Tulane and Loyola Universities and Audubon Park. \nThere are two stops on the tour: a 10 minute stop at St. Louis #3 cemetery and a 20 minute stop at City Park where guests have a chance to walk around\, purchase refreshments\, and walk through a sculpture garden.” \nTwitterFacebookPress ThisLinkedInEmailMorePrintRedditWhatsAppTumblrPocketPinterestLike this:Like Loading...\n\n	Related\n
URL:https://microbe.net/event/asm-microbe-2017/
LOCATION:Ernest N. Morial Convention Center 900 Convention Center Blvd.  \, New Orleans\, LA\, 70130\, United States
CATEGORIES:Conference,Workshop/Meeting
END:VEVENT
END:VCALENDAR