BEGIN:VCALENDAR
VERSION:2.0
PRODID:-//microBEnet: the microbiology of the Built Environment network - ECPv4.6.18//NONSGML v1.0//EN
CALSCALE:GREGORIAN
METHOD:PUBLISH
X-WR-CALNAME:microBEnet: the microbiology of the Built Environment network
X-ORIGINAL-URL:https://microbe.net
X-WR-CALDESC:Events for microBEnet: the microbiology of the Built Environment network
BEGIN:VEVENT
DTSTART;VALUE=DATE:20141211
DTEND;VALUE=DATE:20141212
DTSTAMP:20260421T044804
CREATED:20141113T005716Z
LAST-MODIFIED:20141113T005716Z
UID:21430-1418256000-1418342399@microbe.net
SUMMARY:Building Heath Forum (San Francisco)
DESCRIPTION:Building Heath Forum\nDecember 11\, 2014UCSF Mission Bay \nFrom the web site: \nUnlike any event before it\, the Building Health Forum welcomes nearly 300 of the world’s preeminent experts and thought leaders pioneering the healthy buildings and healthy communities movement for a series of provocative keynotes\, educational sessions\, tours and networking receptions. It is the first feature-length event produced by the Building Health Initiative\, an unprecedented coalition of 45 world-class companies and organizations from multiple sectors revolutionizing procurement strategies\, fostering healthier communities and\, ultimately\, reframing green building as a public health issue. \nTwitterFacebookPress ThisLinkedInEmailMorePrintRedditWhatsAppTumblrPocketPinterestLike this:Like Loading...\n\n	Related\n
URL:https://microbe.net/event/building-heath-forum-san-francisco/
CATEGORIES:Conference
END:VEVENT
END:VCALENDAR