BEGIN:VCALENDAR
VERSION:2.0
PRODID:-//microBEnet: the microbiology of the Built Environment network - ECPv4.6.18//NONSGML v1.0//EN
CALSCALE:GREGORIAN
METHOD:PUBLISH
X-WR-CALNAME:microBEnet: the microbiology of the Built Environment network
X-ORIGINAL-URL:https://microbe.net
X-WR-CALDESC:Events for microBEnet: the microbiology of the Built Environment network
BEGIN:VEVENT
DTSTART;TZID=America/Los_Angeles:20130508T080000
DTEND;TZID=America/Los_Angeles:20130508T170000
DTSTAMP:20260421T123048
CREATED:20130508T002853Z
LAST-MODIFIED:20130508T002853Z
UID:2376-1368000000-1368032400@microbe.net
SUMMARY: Citizen Science Workshop 2012 (Davis\, CA)
DESCRIPTION:Citizen Science Workshop 2012\, UC Davis \nFollow-up post \nTwitterFacebookPress ThisLinkedInEmailMorePrintRedditWhatsAppTumblrPocketPinterestLike this:Like Loading...\n\n	Related\n
URL:https://microbe.net/event/citizen-science-workshop-2012-davis-ca/
CATEGORIES:microBEnet events, meetings, workshops
END:VEVENT
END:VCALENDAR