BEGIN:VCALENDAR
VERSION:2.0
PRODID:-//microBEnet: the microbiology of the Built Environment network - ECPv4.6.18//NONSGML v1.0//EN
CALSCALE:GREGORIAN
METHOD:PUBLISH
X-WR-CALNAME:microBEnet: the microbiology of the Built Environment network
X-ORIGINAL-URL:https://microbe.net
X-WR-CALDESC:Events for microBEnet: the microbiology of the Built Environment network
BEGIN:VEVENT
DTSTART;VALUE=DATE:20161120
DTEND;VALUE=DATE:20161126
DTSTAMP:20260421T044928
CREATED:20160620T131427Z
LAST-MODIFIED:20160620T131427Z
UID:46758-1479600000-1480118399@microbe.net
SUMMARY:CMB Summer Course on Microbial Ecology (Sydney\, Australia)
DESCRIPTION:CMB Summer Course on Microbial Ecology @ SIM \n20th — 25th November\, 2016 at \nThe Sydney Institute of Marine Science (SIMS) Sydney\, Australia \nThis course provides an intensive training for scientists interested in the ecology of microorganisms within a range of environments\, offering students practical hands-on experience in: \n\nExperimental/ sample design and statistical analysis\nTraining in microbial community analysis (16S rRNA gene sequencing and metagenomics) and network analysis\nMicroscopy techniques\, including fluorescence in situ hybridisation (FISH)\n\nThis course is open to postgraduate students and researchers world- wide with a background in microbiology and/or ecology. For expressions of interest and further information on registration process and fees please email Suhelen Egan at: s.egan@unsw.edu.au \nApplications close 17th October 2016 \nCourse organiser\nCentre for Marine Bio-Innovation UNSW\, Australia www.cmb.unsw.edu.au \nTwitterFacebookPress ThisLinkedInEmailMorePrintRedditWhatsAppTumblrPocketPinterestLike this:Like Loading...\n\n	Related\n
URL:https://microbe.net/event/cmb-summer-course-on-microbial-ecology-sydney-australia/
CATEGORIES:Courses
END:VEVENT
END:VCALENDAR