BEGIN:VCALENDAR
VERSION:2.0
PRODID:-//microBEnet: the microbiology of the Built Environment network - ECPv4.6.18//NONSGML v1.0//EN
CALSCALE:GREGORIAN
METHOD:PUBLISH
X-WR-CALNAME:microBEnet: the microbiology of the Built Environment network
X-ORIGINAL-URL:https://microbe.net
X-WR-CALDESC:Events for microBEnet: the microbiology of the Built Environment network
BEGIN:VEVENT
DTSTART;VALUE=DATE:20120709
DTEND;VALUE=DATE:20120714
DTSTAMP:20260421T111554
CREATED:20120705T160749Z
LAST-MODIFIED:20120706T172832Z
UID:1132-1341792000-1342223999@microbe.net
SUMMARY:Department of Energy\, Joint Genome Institute (DOE-JGI)
DESCRIPTION:Workshops from Department of Energy\, Joint Genome Institute (DOE-JGI)http://www.jgi.doe.gov/meetings/mgm/ \nFive-day workshops on Microbial Genomics and Metagenomics during 2012. \nTwitterFacebookPress ThisLinkedInEmailMorePrintRedditWhatsAppTumblrPocketPinterestLike this:Like Loading...\n\n	Related\n
URL:https://microbe.net/event/department-of-energy-joint-genome-institute-doe-jgi/
LOCATION:Valencia\, Spain
CATEGORIES:Training
END:VEVENT
END:VCALENDAR