BEGIN:VCALENDAR
VERSION:2.0
PRODID:-//microBEnet: the microbiology of the Built Environment network - ECPv4.6.18//NONSGML v1.0//EN
CALSCALE:GREGORIAN
METHOD:PUBLISH
X-WR-CALNAME:microBEnet: the microbiology of the Built Environment network
X-ORIGINAL-URL:https://microbe.net
X-WR-CALDESC:Events for microBEnet: the microbiology of the Built Environment network
BEGIN:VEVENT
DTSTART;VALUE=DATE:20130819
DTEND;VALUE=DATE:20130824
DTSTAMP:20260421T095256
CREATED:20120701T180221Z
LAST-MODIFIED:20120705T151552Z
UID:1115-1376870400-1377302399@microbe.net
SUMMARY:“Environment and Health — Bridging South\, North\, East and West” by ISEE\, ISES\, and ISIAQ 
DESCRIPTION:“Environment and Health — Bridging South\, North\, East and West” by ISEE\, ISES\, and ISIAQ (Basel) August 20-23 2013. \nThe first conference joining three of the leading scientific societies: \nInternational Society of Environmental Epidemiology ISEE\nInternational Society of Exposure Sciences ISES\nInternational Society of Indoor Air Quality ISIAQCongress Center \nTwitterFacebookPress ThisLinkedInEmailMorePrintRedditWhatsAppTumblrPocketPinterestLike this:Like Loading...\n\n	Related\n
URL:https://microbe.net/event/environment-and-health-bridging-south-north-east-and-west-by-isee-ises-and-isiaq/
LOCATION:Basel\, Switzerland
CATEGORIES:Conference
END:VEVENT
END:VCALENDAR