BEGIN:VCALENDAR
VERSION:2.0
PRODID:-//microBEnet: the microbiology of the Built Environment network - ECPv4.6.18//NONSGML v1.0//EN
CALSCALE:GREGORIAN
METHOD:PUBLISH
X-WR-CALNAME:microBEnet: the microbiology of the Built Environment network
X-ORIGINAL-URL:https://microbe.net
X-WR-CALDESC:Events for microBEnet: the microbiology of the Built Environment network
BEGIN:VEVENT
DTSTART;VALUE=DATE:20150413
DTEND;VALUE=DATE:20150416
DTSTAMP:20260421T062348
CREATED:20140118T081533Z
LAST-MODIFIED:20140118T081533Z
UID:15032-1428883200-1429142399@microbe.net
SUMMARY:Fourth Building Enclosure Science & Technology Conference (BEST4)
DESCRIPTION:From meeting site \nMark your calendar now for the triennial Building Enclosure Science & Technology (BEST4) Conference\, to be held April 13 -15\, 2015\, at the Westin Kansas City at Crown Center\, Kansas City\, Missouri. Hosted by the Kansas City Building Enclosure Council (BEC-Kansas City)\, BEST4 is themed “Performance Driven Architectural Design.” BEST4 is open to people working in all facets of the building industry and is structured to enhance understanding of challenging design changes and to provide a forum for peer-to-peer discussion. The Conference will tackle performance of the building enclosure in the context of full-building performance. \nThe semi-annual Building Enclosure Technology and Environment Council (BETEC) and Building Enclosure Council-National (BEC National) meetings will be held in Kansas City on Thursday\, April 16. \nTwitterFacebookPress ThisLinkedInEmailMorePrintRedditWhatsAppTumblrPocketPinterestLike this:Like Loading...\n\n	Related\n
URL:https://microbe.net/event/fourth-building-enclosure-science-technology-conference-best4/
LOCATION:Kansas City\, MO\, United States
CATEGORIES:Conference
END:VEVENT
END:VCALENDAR