BEGIN:VCALENDAR
VERSION:2.0
PRODID:-//microBEnet: the microbiology of the Built Environment network - ECPv4.6.18//NONSGML v1.0//EN
CALSCALE:GREGORIAN
METHOD:PUBLISH
X-WR-CALNAME:microBEnet: the microbiology of the Built Environment network
X-ORIGINAL-URL:https://microbe.net
X-WR-CALDESC:Events for microBEnet: the microbiology of the Built Environment network
BEGIN:VEVENT
DTSTART;TZID=America/Los_Angeles:20140314T080000
DTEND;TZID=America/Los_Angeles:20140314T170000
DTSTAMP:20260421T110528
CREATED:20140314T011837Z
LAST-MODIFIED:20140314T011837Z
UID:15296-1394784000-1394816400@microbe.net
SUMMARY:IGS Metagenome Analysis
DESCRIPTION:TwitterFacebookPress ThisLinkedInEmailMorePrintRedditWhatsAppTumblrPocketPinterestLike this:Like Loading...\n\n	Related\n
URL:https://microbe.net/event/igs-metagenome-analysis/
CATEGORIES:Training
END:VEVENT
END:VCALENDAR