BEGIN:VCALENDAR
VERSION:2.0
PRODID:-//microBEnet: the microbiology of the Built Environment network - ECPv4.6.18//NONSGML v1.0//EN
CALSCALE:GREGORIAN
METHOD:PUBLISH
X-WR-CALNAME:microBEnet: the microbiology of the Built Environment network
X-ORIGINAL-URL:https://microbe.net
X-WR-CALDESC:Events for microBEnet: the microbiology of the Built Environment network
BEGIN:VEVENT
DTSTART;VALUE=DATE:20160703
DTEND;VALUE=DATE:20160709
DTSTAMP:20260421T044624
CREATED:20150821T022839Z
LAST-MODIFIED:20150821T022839Z
UID:39341-1467504000-1468022399@microbe.net
SUMMARY:INDOOR AIR 2016
DESCRIPTION:Important Dates: \nJuly 3 – 8 2016 \n  \nSee web site for details \n\n\n\n\nCall for sessions and symposia:\nEarly 2015\ndeadline August 1st\n\n\nCall for abstracts:\nAugust 2015\ndeadline October 15th\n\n\nPaper submission:\nDecember 2015\n deadline February 1st\n\n\nConference:\nJuly 3rd-8th 2016\n\n\n\n\n\nTwitterFacebookPress ThisLinkedInEmailMorePrintRedditWhatsAppTumblrPocketPinterestLike this:Like Loading...\n\n	Related\n
URL:https://microbe.net/event/indoor-air-2016/
CATEGORIES:Conference
END:VEVENT
END:VCALENDAR