BEGIN:VCALENDAR
VERSION:2.0
PRODID:-//microBEnet: the microbiology of the Built Environment network - ECPv4.6.18//NONSGML v1.0//EN
CALSCALE:GREGORIAN
METHOD:PUBLISH
X-WR-CALNAME:microBEnet: the microbiology of the Built Environment network
X-ORIGINAL-URL:https://microbe.net
X-WR-CALDESC:Events for microBEnet: the microbiology of the Built Environment network
BEGIN:VEVENT
DTSTART;VALUE=DATE:20150120
DTEND;VALUE=DATE:20150123
DTSTAMP:20260421T062520
CREATED:20140604T160102Z
LAST-MODIFIED:20140604T160102Z
UID:15689-1421712000-1421971199@microbe.net
SUMMARY:International Builders Show (Las Vegas\, NV)
DESCRIPTION:International Builders Show \nWhen:\nJanuary 20-22\, 2015 \nWhere:\nLas Vegas\, Nevada\nUnited States \nEvent Web Site \n  \nTwitterFacebookPress ThisLinkedInEmailMorePrintRedditWhatsAppTumblrPocketPinterestLike this:Like Loading...\n\n	Related\n
URL:https://microbe.net/event/international-builders-show-las-vegas-nv/
CATEGORIES:Conference
END:VEVENT
END:VCALENDAR