BEGIN:VCALENDAR
VERSION:2.0
PRODID:-//microBEnet: the microbiology of the Built Environment network - ECPv4.6.18//NONSGML v1.0//EN
CALSCALE:GREGORIAN
METHOD:PUBLISH
X-WR-CALNAME:microBEnet: the microbiology of the Built Environment network
X-ORIGINAL-URL:https://microbe.net
X-WR-CALDESC:Events for microBEnet: the microbiology of the Built Environment network
BEGIN:VEVENT
DTSTART;VALUE=DATE:20141002
DTEND;VALUE=DATE:20141004
DTSTAMP:20260421T031717
CREATED:20140325T140915Z
LAST-MODIFIED:20140325T140915Z
UID:15351-1412208000-1412380799@microbe.net
SUMMARY:International Conference on Efficient Building Design (Beirut\, Lebanon) 
DESCRIPTION:October 02 – 03\, 2014\nInternational Conference on Efficient Building Design: Materials and HVAC Equipment Technologies \nConference Web Site \n“The Conference presents the latest research and development to improve building designs and state-of-the-art technologies in building materials and systems. \nReducing energy consumption and carbon dioxide emissions\, implementing energy efficiency standards and introducing new equipment and technologies are areas the seeking improvement in the Arab region\, according to Nesreen Ghaddar\, conference chair. \n“This conference will serve as a platform for presenting advanced research in these topics with the intent to make recommendations for decision makers to implement\,” she said. “Specifically\, direction is sought on what technology is optimal and can be adopted when phasing out HCFC refrigerants in equipment and systems in developing countries.” \nTopics include but are not limited to: \n\nSustainable Building Designs\nEnergy Efficiency Standards\nBuilding Materials\nIndoor Air Quality Systems\nHVAC and Different Technologies\nSolar Heating and Cooling for Built Environment\nSystems for Cooling and Water Production for Hot Humid Climates\n\nASHRAE\, founded in 1894\, is a building technology society with more than 50\,000 members worldwide. The Society and its members focus on building systems\, energy efficiency\, indoor air quality\, refrigeration and sustainability within the industry. Through research\, standards writing\, publishing and continuing education\, ASHRAE shapes tomorrow’s built environment today.” \nTwitterFacebookPress ThisLinkedInEmailMorePrintRedditWhatsAppTumblrPocketPinterestLike this:Like Loading...\n\n	Related\n
URL:https://microbe.net/event/international-conference-on-efficient-building-design-beirut-lebanon/
LOCATION:Beruit\, Lebanon
CATEGORIES:Conference
END:VEVENT
END:VCALENDAR