BEGIN:VCALENDAR
VERSION:2.0
PRODID:-//microBEnet: the microbiology of the Built Environment network - ECPv4.6.18//NONSGML v1.0//EN
CALSCALE:GREGORIAN
METHOD:PUBLISH
X-WR-CALNAME:microBEnet: the microbiology of the Built Environment network
X-ORIGINAL-URL:https://microbe.net
X-WR-CALDESC:Events for microBEnet: the microbiology of the Built Environment network
BEGIN:VEVENT
DTSTART;VALUE=DATE:20150617
DTEND;VALUE=DATE:20150620
DTSTAMP:20260421T075941
CREATED:20140602T155759Z
LAST-MODIFIED:20140602T155759Z
UID:15659-1434499200-1434758399@microbe.net
SUMMARY:Irish Division Meeting 2015: Microbial Interfaces (Ireland)
DESCRIPTION:The Irish Division Meeting 2015 is titled ‘Microbial Interfaces’ and will take place at the University of Galway\, Ireland.\nJune 17 – 19\, 2015 \nTwitterFacebookPress ThisLinkedInEmailMorePrintRedditWhatsAppTumblrPocketPinterestLike this:Like Loading...\n\n	Related\n
URL:https://microbe.net/event/irish-division-meeting-2015-microbial-interfaces-ireland/
CATEGORIES:Conference
END:VEVENT
END:VCALENDAR