BEGIN:VCALENDAR
VERSION:2.0
PRODID:-//microBEnet: the microbiology of the Built Environment network - ECPv4.6.18//NONSGML v1.0//EN
CALSCALE:GREGORIAN
METHOD:PUBLISH
X-WR-CALNAME:microBEnet: the microbiology of the Built Environment network
X-ORIGINAL-URL:https://microbe.net
X-WR-CALDESC:Events for microBEnet: the microbiology of the Built Environment network
BEGIN:VEVENT
DTSTART;VALUE=DATE:20140914
DTEND;VALUE=DATE:20140919
DTSTAMP:20260421T094121
CREATED:20140305T155306Z
LAST-MODIFIED:20140305T155306Z
UID:15248-1410652800-1411084799@microbe.net
SUMMARY:Lake Arrowhead International Microbial Genomics Conference (CA)
DESCRIPTION:Preliminary Program of Confirmed Speakers\nLake Arrowhead International Microbial Genomics Conference\nSeptember 14-18\, 2014 \nKeynote Speaker: \nJulia A. Segre\, National Human Genome Research Institute\, NIH\, Bethesda\, MD (skin microbiome; tracking outbreaks through genomic sequencing) \nMirobial Communities I: Microbiomes \n\nPeter Turnbaugh\, Harvard University\, Cambridge\, MA (human microbiome)\nNoah Fierer\, University of Colorado\, Boulder\, CO (human microbiome; soil microbial communities)\nSarkis K. Mazmanian\, California Institute of Technology\, Pasadena\, CA (gastrointestinal microbiota)\nAndrew Goodman\, Microbial Diversity Institute\, Yale University\, West Haven\, CT (human microbiome; pathogens)\n\nMicrobial Communities II\, Metagenomics\, Biodiversity\, Natural Products\, Evolution \n\nNancy Moran\, University of Texas\, Austin Texas (Symbiosis between multicellular hosts and microbes)\nTanja Woyke\, DOE Joint Genome Institute\, Walnut Creek\, CA (metagenomics; single cell genomics)\nEric J. Alm\, Massachusetts Institute of Technology\, Cambridge\, MA (evolution of microorganisms)\nMichael Fischbach\, UCSF\, San Francisco\, CA (Insights from a global analysis of secondary metabolism: Small molecules from the human microbiota)\nJessica Green\, University of Oregon\, Eugene\, OR (metagenomics; built environment)\nKaryna Rosario Cora\, University of South Florida\, St. Peterburg\, FL (Exploring the viral world through metagenomics)\nSusannah Green Tringe\, DOE Joint Genome Institute\, Walnut Creek\, CA (Microbial communities and the carbon cycle)\nNicole Perna\, University of Wisconsin\, Madison\, WI (Evolution of the response to oxygen availability in enterobacteria: a complex trait in a model family)\nKatie Pollard\, UCSF\, San Francisco\, CA (Metagenomics; evolutionary genomics)\nJenna Morgan Lang\, University of California\, Davis\, CA (Citizen microbiology)\n\nPathogens\, Antibiotic Resistance \n\nJulian Parkhill\, Welcome Trust Sanger Institute\, Cambridge\, UK (genomics of pathogens; tracking outbreaks through genomic sequencing)\nLance B. Price\, George Washington University\, Washington\, D. C. (foodborneurinary tract infection studies)\nGautam Dantas\, Washington University\, St. Louis\, MO (reservoirs of antibiotic resistance)\nJeffrey T. Foster\, Northern Arizona University\, Flagstaff\, AZ (genomic epizootiology of white-nose syndrome in bats)\nTimothy D. Read\, Emory University School of Medicine\, Atlanta\, GA (S. aureus antibiotic resistance genomics)\nEvgeni Sokurenko\, University of Washington\, Seattle\, WA (Pathoadaptive mutations in microbial genomes)\nJennifer Gardy\, University of British Columbia\, British Columbia\, Canada (Genomics and epidemiology)\nAshlee Earl\, The Broad Institute of Harvard and MIT\, Cambridge\, MA (Pathogen and Comparative Genomics)\n\nSystems Biology\, Metabalomics\, Synthetic Biology \n\nFiona Brinkman\, Simon Fraser University\, Greater Vancouver\, British Columbia\, Canada (Using genomics and network analysis to characterize disease outbreaks)\nMallory Embree\, University of California\, San Diego\, CA (Deciphering dynamic community interaction using systems biology)\nFuzhong Zhang\, Washington University\, St. Louis\, MO (producing biofuels and pharmaceuticals with synthetic biology)\nSri Kosuri\, University of California\, Los Angeles\, CA (synthetic biology\, TBA)\nMichele C. Chang\, University of California\, Berkeley\, CA (expanding fluorine chemistry of living systems by genetic engineering)\n\n  \nTwitterFacebookPress ThisLinkedInEmailMorePrintRedditWhatsAppTumblrPocketPinterestLike this:Like Loading...\n\n	Related\n
URL:https://microbe.net/event/lake-arrowhead-international-microbial-genomics-conference-ca/
CATEGORIES:Conference
END:VEVENT
END:VCALENDAR