BEGIN:VCALENDAR
VERSION:2.0
PRODID:-//microBEnet: the microbiology of the Built Environment network - ECPv4.6.18//NONSGML v1.0//EN
CALSCALE:GREGORIAN
METHOD:PUBLISH
X-WR-CALNAME:microBEnet: the microbiology of the Built Environment network
X-ORIGINAL-URL:https://microbe.net
X-WR-CALDESC:Events for microBEnet: the microbiology of the Built Environment network
BEGIN:VEVENT
DTSTART;VALUE=DATE:20151216
DTEND;VALUE=DATE:20151219
DTSTAMP:20260421T061954
CREATED:20151105T172834Z
LAST-MODIFIED:20151105T172834Z
UID:42371-1450224000-1450483199@microbe.net
SUMMARY:Mothur Workshop (Detroit)
DESCRIPTION:Just got this from the Mothur email list: \nWe continue to plug away at some really nice features to incorporate into mothur for your analytical pleasure. I wanted to let you know that the next mothur workshop will run from December 16 to 18 near the Detroit airport. The workshop is being filled on a first come\, first served basis. The workshop is geared towards people with diverse backgrounds so you shouldn’t feel like this isn’t for you if you are a beginner. I assume no previous computer programming experience. The workshop is an even blend of lecture/discussion and hands on use of mothur with real sequence data. Here is a rough outline of what the workshop schedule will look like (although it is subject to some minor changes)… \nDay 1:\n— Overview of methods used in microbial ecology\n— DNA sequencing technologies (Sanger\, 454\, Illumina\, IonTorrent\, PacBio)\n— Introduction to mothur\, command line interface\, and GUI\n— Improving sequence quality\n— Alignment \nDay 2:\n— Chimera detection\n— Distance calaculations\n— OTU identification\n— Sequence/OTU classification \nDay 3:\n— Intro to quantitative ecology for microbial ecologists\n— Methods of measuring alpha and beta diversity\n— Population level analyses \nBasics: As indicated above\, each day there will be a lecture and discussion interspersed with hands-on activities and it will run from 9 to 5. If you would like to meet with me one-on-one to discuss your project\, I can do that in the evening and during breaks. \nTo bring: It is important that you bring a laptop to the workshop. While it would be helpful if you came with mothur pre-installed\, it is not that important since we can do this at the workshop. People often find it helpful to bring along their own data to play with after they have mastered the examples I provide. People also find it helpful to bring a notebook for taking notes during the lecture components. Of course\, a willingness to learn\, questions\, and a good sense of humor are essential! \nHotel: The workshop will be held at the LaQuinta Hotel (30847 Flynn Dr; Romulus\, MI)\, which has a free shuttle to and from the Detroit Airport (DTW; this is an International hub for Delta). We have a block of rooms reserved for you at $89 per night plus tax that you will need to cover on your own. You can make a reservation by calling 734-721-1100 and telling them that you would like to fill a reservation within the “Pat Schloss group”. Included in that rate is a continental breakfast and included in the cost of the course is a lunch for each day. There are a number of restaurants in the area where you can have dinner. \nIf you would like further information about costs and how to register\, feel free to email me. \nThanks!\nPat Schloss \nTwitterFacebookPress ThisLinkedInEmailMorePrintRedditWhatsAppTumblrPocketPinterestLike this:Like Loading...\n\n	Related\n
URL:https://microbe.net/event/mothur-workshop-detroit/
CATEGORIES:Workshop/Meeting
END:VEVENT
END:VCALENDAR