BEGIN:VCALENDAR
VERSION:2.0
PRODID:-//microBEnet: the microbiology of the Built Environment network - ECPv4.6.18//NONSGML v1.0//EN
CALSCALE:GREGORIAN
METHOD:PUBLISH
X-WR-CALNAME:microBEnet: the microbiology of the Built Environment network
X-ORIGINAL-URL:https://microbe.net
X-WR-CALDESC:Events for microBEnet: the microbiology of the Built Environment network
BEGIN:VEVENT
DTSTART;VALUE=DATE:20130616
DTEND;VALUE=DATE:20130620
DTSTAMP:20260421T113035
CREATED:20120701T175817Z
LAST-MODIFIED:20120705T151735Z
UID:1112-1371340800-1371686399@microbe.net
SUMMARY:REHVA World Congress CLIMA 2013 (Prague)
DESCRIPTION:11th REHVA World Congress CLIMA 2013 (Prague) June 16-19 2013 \nTwitterFacebookPress ThisLinkedInEmailMorePrintRedditWhatsAppTumblrPocketPinterestLike this:Like Loading...\n\n	Related\n
URL:https://microbe.net/event/rehva-world-congress-clima-2013-prague/
LOCATION:Czech Republic
CATEGORIES:Conference
END:VEVENT
END:VCALENDAR