BEGIN:VCALENDAR
VERSION:2.0
PRODID:-//microBEnet: the microbiology of the Built Environment network - ECPv4.6.18//NONSGML v1.0//EN
CALSCALE:GREGORIAN
METHOD:PUBLISH
X-WR-CALNAME:microBEnet: the microbiology of the Built Environment network
X-ORIGINAL-URL:https://microbe.net
X-WR-CALDESC:Events for microBEnet: the microbiology of the Built Environment network
BEGIN:VEVENT
DTSTART;VALUE=DATE:20140619
DTEND;VALUE=DATE:20140623
DTSTAMP:20260421T062104
CREATED:20140325T044122Z
LAST-MODIFIED:20140326T133645Z
UID:15349-1403136000-1403481599@microbe.net
SUMMARY:SBSE Retreat 2014 (Tucson\, AZ)
DESCRIPTION:Society for Building Science Educators Retreat 2014 \nOnce per year\, at different venues\,  SBSE members meet to discuss teaching methods\, to share  their  teaching experiences\, and to discuss ways of furthering their skills. \nMore information is on the web site. \nTwitterFacebookPress ThisLinkedInEmailMorePrintRedditWhatsAppTumblrPocketPinterestLike this:Like Loading...\n\n	Related\n
URL:https://microbe.net/event/sbse-retreat-2014/
CATEGORIES:Conference
END:VEVENT
END:VCALENDAR