BEGIN:VCALENDAR
VERSION:2.0
PRODID:-//microBEnet: the microbiology of the Built Environment network - ECPv4.6.18//NONSGML v1.0//EN
CALSCALE:GREGORIAN
METHOD:PUBLISH
X-WR-CALNAME:microBEnet: the microbiology of the Built Environment network
X-ORIGINAL-URL:https://microbe.net
X-WR-CALDESC:Events for microBEnet: the microbiology of the Built Environment network
BEGIN:VEVENT
DTSTART;VALUE=DATE:20140624
DTEND;VALUE=DATE:20140627
DTSTAMP:20260421T062231
CREATED:20140326T135224Z
LAST-MODIFIED:20140326T135224Z
UID:15381-1403568000-1403827199@microbe.net
SUMMARY:Sensors Expo & Conference
DESCRIPTION:Sensors Expo & Conference\nSensing Technologies Driving Tomorrow’s Solutions\nJune 24-26\, 2014\nDonald E. Stephens Convention Center\nRosemont\, IL\nTwitterFacebookPress ThisLinkedInEmailMorePrintRedditWhatsAppTumblrPocketPinterestLike this:Like Loading...\n\n	Related\n
URL:https://microbe.net/event/sensors-expo-conference/
LOCATION:Rosemont\, IL\, United States
CATEGORIES:Conference
END:VEVENT
END:VCALENDAR