BEGIN:VCALENDAR
VERSION:2.0
PRODID:-//microBEnet: the microbiology of the Built Environment network - ECPv4.6.18//NONSGML v1.0//EN
CALSCALE:GREGORIAN
METHOD:PUBLISH
X-WR-CALNAME:microBEnet: the microbiology of the Built Environment network
X-ORIGINAL-URL:https://microbe.net
X-WR-CALDESC:Events for microBEnet: the microbiology of the Built Environment network
BEGIN:VEVENT
DTSTART;VALUE=DATE:20140401
DTEND;VALUE=DATE:20140403
DTSTAMP:20260421T080838
CREATED:20131020T192137Z
LAST-MODIFIED:20131020T192137Z
UID:14772-1396310400-1396483199@microbe.net
SUMMARY:SfAM Activated Sludge Meeting
DESCRIPTION:April 01 – 02\, 2014   SfAM Activated Sludge Meeting\nManchester\, UK\nSociety for Applied Microbiology\nThe SfAM Activated Sludge Meeting entitled: Control of water-borne disease: A century of the activated sludge sewage treatment process.\nFurther information\nTwitterFacebookPress ThisLinkedInEmailMorePrintRedditWhatsAppTumblrPocketPinterestLike this:Like Loading...\n\n	Related\n
URL:https://microbe.net/event/sfam-activated-sludge-meeting/
CATEGORIES:Conference
END:VEVENT
END:VCALENDAR