BEGIN:VCALENDAR
VERSION:2.0
PRODID:-//microBEnet: the microbiology of the Built Environment network - ECPv4.6.18//NONSGML v1.0//EN
CALSCALE:GREGORIAN
METHOD:PUBLISH
X-WR-CALNAME:microBEnet: the microbiology of the Built Environment network
X-ORIGINAL-URL:https://microbe.net
X-WR-CALDESC:Events for microBEnet: the microbiology of the Built Environment network
BEGIN:VEVENT
DTSTART;TZID=America/Los_Angeles:20120531T080000
DTEND;TZID=America/Los_Angeles:20120601T170000
DTSTAMP:20260421T154403
CREATED:20130508T002238Z
LAST-MODIFIED:20130508T002238Z
UID:2374-1338451200-1338570000@microbe.net
SUMMARY:Sloan Meeting on Microbiology of the Built Environment 2012
DESCRIPTION:Inaugural Meeting:  Sloan Meeting on microbiology of the built environment. \nFollow up Posts: here\, here\, here and here. \nTwitterFacebookPress ThisLinkedInEmailMorePrintRedditWhatsAppTumblrPocketPinterestLike this:Like Loading...\n\n	Related\n
URL:https://microbe.net/event/sloan-meeting-on-microbiology-of-the-built-environment-2012/
CATEGORIES:microBEnet events, meetings, workshops
END:VEVENT
END:VCALENDAR