BEGIN:VCALENDAR
VERSION:2.0
PRODID:-//microBEnet: the microbiology of the Built Environment network - ECPv4.6.18//NONSGML v1.0//EN
CALSCALE:GREGORIAN
METHOD:PUBLISH
X-WR-CALNAME:microBEnet: the microbiology of the Built Environment network
X-ORIGINAL-URL:https://microbe.net
X-WR-CALDESC:Events for microBEnet: the microbiology of the Built Environment network
BEGIN:VEVENT
DTSTART;TZID=America/Los_Angeles:20140424T130000
DTEND;TZID=America/Los_Angeles:20140424T170000
DTSTAMP:20260421T062217
CREATED:20140414T154915Z
LAST-MODIFIED:20140414T154915Z
UID:15453-1398344400-1398358800@microbe.net
SUMMARY:SparkFun\, Arduino Basics (free workshop) Washington D.C.
DESCRIPTION:SparkFun\, Arduino Basics (free workshop)\nWalter E. Washington Convention Center\, Room 306 Washington D.C.\nThursday\, April 24th\, 1 PM – 5 PM \nLink to web site \nTwitterFacebookPress ThisLinkedInEmailMorePrintRedditWhatsAppTumblrPocketPinterestLike this:Like Loading...\n\n	Related\n
URL:https://microbe.net/event/sparkfun-arduino-basics-free-workshop-washington-d-c/
LOCATION:Washington DC\, United States
CATEGORIES:Training
END:VEVENT
END:VCALENDAR