BEGIN:VCALENDAR
VERSION:2.0
PRODID:-//microBEnet: the microbiology of the Built Environment network - ECPv4.6.18//NONSGML v1.0//EN
CALSCALE:GREGORIAN
METHOD:PUBLISH
X-WR-CALNAME:microBEnet: the microbiology of the Built Environment network
X-ORIGINAL-URL:https://microbe.net
X-WR-CALDESC:Events for microBEnet: the microbiology of the Built Environment network
BEGIN:VEVENT
DTSTART;VALUE=DATE:20170814
DTEND;VALUE=DATE:20170816
DTSTAMP:20260421T145547
CREATED:20170411T171304Z
LAST-MODIFIED:20170411T171304Z
UID:51957-1502668800-1502841599@microbe.net
SUMMARY:Standards for Pathogen Detection for Biosurveillance and Clinical Applications Workshop (Gaithersburg\, MD)
DESCRIPTION:Of possible interest: \nSource: Standards for Pathogen Detection for Biosurveillance and Clinical Applications Workshop | NIST \n\nFrom the email announcement: \nHosted by NIST and the DHS Science and Technology Directorate \nAugust 14th and 15th on the NIST Campus in Gaithersburg\, MD \nOne Page Abstracts for talks\, lightning talks and posters are now being accepted. Please email abstracts to NISTpathogen@nist.gov \nSponsorship opportunities are available. To inquire\, please email:  NISTpathogen@nist.gov \nRegistration will open soon.  Stay tuned and check back atthis site. \nThe purpose of this workshop is to present state-of-the-art pathogen detection technologies\, emphasizing the need for standards relevant to the clinical diagnostic and biothreat detection stakeholder communities.  We feel these two communities share many of the same measurement challenges (e.g. assessing sensitivity and specificity) and this workshop will serve as a venue for an exchange of ideas and open discussion on the general topic of measurement assurance for pathogen detection. \nSpeakers will include subject matter experts from industry\, academia\, and government. \nThis workshop builds upon previous NIST-hosted workshops focused on pathogen detection and identification. \nPlease feel free to share this announcement with you colleagues.  This is an open workshop. \nTwitterFacebookPress ThisLinkedInEmailMorePrintRedditWhatsAppTumblrPocketPinterestLike this:Like Loading...\n\n	Related\n
URL:https://microbe.net/event/standards-for-pathogen-detection-for-biosurveillance-and-clinical-applications-workshop-gaithersburg-md/
CATEGORIES:Workshop/Meeting
END:VEVENT
END:VCALENDAR