BEGIN:VCALENDAR
VERSION:2.0
PRODID:-//microBEnet: the microbiology of the Built Environment network - ECPv4.6.18//NONSGML v1.0//EN
CALSCALE:GREGORIAN
METHOD:PUBLISH
X-WR-CALNAME:microBEnet: the microbiology of the Built Environment network
X-ORIGINAL-URL:https://microbe.net
X-WR-CALDESC:Events for microBEnet: the microbiology of the Built Environment network
BEGIN:VEVENT
DTSTART;VALUE=DATE:20170710
DTEND;VALUE=DATE:20170722
DTSTAMP:20260421T180542
CREATED:20170418T170035Z
LAST-MODIFIED:20170418T170035Z
UID:51986-1499644800-1500681599@microbe.net
SUMMARY:Summer Institute in Data Intensive Biology (Davis\, CA)
DESCRIPTION:Summer Institute in Data Intensive Biology\n(http://ivory.idyll.org/dibsi/)__\, we will be running nine\nweek-long computational workshops from July 10 to July 17\non campus at UC Davis. \nWeek 1: July 10-15 \n* Genome Wide Association Study Workshop – http://ivory.idyll.org/dibsi/workshops.html#genome-wide-association-study-workshop – Tamer Mansour and Erica Scott\n* Undergraduate Curriculum Hackathon – http://ivory.idyll.org/dibsi/workshops.html#undergraduate-curriculum-hackathon\n* Introduction to Python – http://ivory.idyll.org/dibsi/workshops.html#introduction-to-python – Emily Dolson\n* Reproducible research with R/Data Hackathon – http://ivory.idyll.org/dibsi/workshops.html#reproducible-research-with-r-data-hackathon – Chris Hamm\n* Cloud Training Materials Development – http://ivory.idyll.org/dibsi/workshops.html#cloud-training-materials-development – Daniel Standage and Luiz Irber \nWeek 2: July 17-21 \n* Introduction to Transposon Insertion Sequencing Analysis (TNSeq/INSeq) – http://ivory.idyll.org/dibsi/workshops.html#introduction-to-transposon-insertion-sequencing-analysis – Mark Mandel\n* Environmental Metagenomics – http://ivory.idyll.org/dibsi/workshops.html#environmental-metagenomics-dibsi-em – Harriet Alexander\n* Non-model RNAseq\, bring your own data – http://ivory.idyll.org/dibsi/workshops.html#non-model-rnaseq-bring-your-own-data – Tessa Pierce\, Jane Khudyakov\, and Lisa Cohen\n* Introduction to R – http://ivory.idyll.org/dibsi/workshops.html#introduction-to-r – Michael Koontz \nAll workshops will take place at UC Davis; please see the venue\ninformation (http://ivory.idyll.org/dibsi/VENUE.html) for details. \nWorkshops may extend into the evening hours; please plan on devoting\nthe entire time to the workshop. Workshops are $350/wk. \nOn-campus housing information is available for approximately $400/wk\,\nwhich includes breakfast and dinner. Housing registration currently\ncloses April 26th. \nRegistration links for each workshop are under the workshop\ndescription; housing is linked there as well\, and must be booked\nseparately. Attendees of both weeks of workshops may book housing for\nboth weeks\, and attendees of the two-week introductory bioinformatics\nworkshop\, ANGUS (http://ivory.idyll.org/dibsi/ANGUS.html) may book\na full four weeks of housing. \nFor questions about registration\, travel\, invitation letters\, or other\ngeneral topics\, please contact dibsi.training@gmail.com. \nFor workshop specific questions\,\ncontact the instructors (e-mail links are under each workshop). \nTwitterFacebookPress ThisLinkedInEmailMorePrintRedditWhatsAppTumblrPocketPinterestLike this:Like Loading...\n\n	Related\n
URL:https://microbe.net/event/summer-institute-in-data-intensive-biology-davis-ca/
CATEGORIES:Workshop/Meeting
END:VEVENT
END:VCALENDAR