BEGIN:VCALENDAR
VERSION:2.0
PRODID:-//microBEnet: the microbiology of the Built Environment network - ECPv4.6.18//NONSGML v1.0//EN
CALSCALE:GREGORIAN
METHOD:PUBLISH
X-WR-CALNAME:microBEnet: the microbiology of the Built Environment network
X-ORIGINAL-URL:https://microbe.net
X-WR-CALDESC:Events for microBEnet: the microbiology of the Built Environment network
BEGIN:VEVENT
DTSTART;TZID=America/Los_Angeles:20161109T140000
DTEND;TZID=America/Los_Angeles:20161109T170000
DTSTAMP:20260421T102345
CREATED:20161031T195641Z
LAST-MODIFIED:20161031T195641Z
UID:49783-1478700000-1478710800@microbe.net
SUMMARY:The Human Microbiome Seminar
DESCRIPTION:When most people think about microbes\, they think disease. For well over 100 years the medical community’s mantra has been that “the only good bug is a dead bug.” But the functions of the human body rely not only on our own cells\, but on the intricate interplay between complex communities of bacteria\, archaea\, viruses and microscopic eukaryotes living within us. Its overall health and wellbeing is a reflection of the interactions and balance among these many microbial mini-ecosystems and the host. \nThe ability of these communities to properly perform vital functions\, and to recognize and respond to environmental changes both outside and inside the human body depends on molecular networks comprising signaling and target molecules and their biosynthetic and regulatory pathways. These molecular networks including the many chemical molecules necessary for their function remain mostly unknown. \nThe Human Microbiome Seminar will explore the advances\, opportunities and challenges to unveil the “chemical dark matter” of the human microbiome and its role in health and disease. The seminar will be webcast online at www.dels.nas.edu/csr. Please register to be a webcast participant or to attend in person by clicking this link: https://www.eventbrite.com/e/the-chemistry-of-microbiomes-human-seminar-tickets-27392663193 \n  \nWednesday\, November 9\, 2:00 – 5:00 pm \nTwitterFacebookPress ThisLinkedInEmailMorePrintRedditWhatsAppTumblrPocketPinterestLike this:Like Loading...\n\n	Related\n
URL:https://microbe.net/event/the-human-microbiome-seminar/
CATEGORIES:Workshop/Meeting
END:VEVENT
END:VCALENDAR