BEGIN:VCALENDAR
VERSION:2.0
PRODID:-//microBEnet: the microbiology of the Built Environment network - ECPv4.6.18//NONSGML v1.0//EN
CALSCALE:GREGORIAN
METHOD:PUBLISH
X-WR-CALNAME:microBEnet: the microbiology of the Built Environment network
X-ORIGINAL-URL:https://microbe.net
X-WR-CALDESC:Events for microBEnet: the microbiology of the Built Environment network
BEGIN:VEVENT
DTSTART;VALUE=DATE:20160318
DTEND;VALUE=DATE:20160321
DTSTAMP:20260421T062121
CREATED:20150904T204801Z
LAST-MODIFIED:20150904T204801Z
UID:40449-1458259200-1458518399@microbe.net
SUMMARY:The Individual Microbe: Single-cell Analysis and Agent-based Modeling (Washington\, DC)
DESCRIPTION:The Individual Microbe: Single-cell Analysis and Agent-based Modeling\nMarch 18—20\, 2016\, ASM Headquarters\, Washington\, DC \nFrom the web site:\nRecent technological advances in single-cell microbiology\, using flow cytometry\, microfluidics\, x-ray fluorescence microprobes\, and single-cell -omics\, allow for the observation of individuals within populations. Simultaneously\, individual/agent-based models allow for individual microbes to be simulated. Bridging these techniques forms the foundation of individual-based microbiology of microbes. The goal of this @ASM Conference is to bring together researchers interested in applying individual observational and/or modeling techniques to study microbiology. \n\nTwitterFacebookPress ThisLinkedInEmailMorePrintRedditWhatsAppTumblrPocketPinterestLike this:Like Loading...\n\n	Related\n
URL:https://microbe.net/event/the-individual-microbe-single-cell-analysis-and-agent-based-modeling-washington-dc/
CATEGORIES:Conference
END:VEVENT
END:VCALENDAR