BEGIN:VCALENDAR
VERSION:2.0
PRODID:-//microBEnet: the microbiology of the Built Environment network - ECPv4.6.18//NONSGML v1.0//EN
CALSCALE:GREGORIAN
METHOD:PUBLISH
X-WR-CALNAME:microBEnet: the microbiology of the Built Environment network
X-ORIGINAL-URL:https://microbe.net
X-WR-CALDESC:Events for microBEnet: the microbiology of the Built Environment network
BEGIN:VEVENT
DTSTART;VALUE=DATE:20170619
DTEND;VALUE=DATE:20170624
DTSTAMP:20260421T162620
CREATED:20170412T212606Z
LAST-MODIFIED:20170412T212606Z
UID:51969-1497830400-1498262399@microbe.net
SUMMARY:UC Davis Bioinformatics RNA-Seq Workshop (Davis\, CA)
DESCRIPTION:UC Davis Bioinformatics RNA-Seq Workshop!\n  \nJune 19-23\, 2017\nNow in its 10th year\, the UC Davis Bioinformatics Core Training Program will present a week-long RNA-Seq Workshop here in Davis in June! \nThis workshop will include a rich collection of lectures and hands-on sessions\, covering both theory and tools associated with command-line RNA-seq data analysis. Participants will explore experimental design\, cost estimation\, data generation\, and analysis of RNA-Seq data generated on the Illumina sequencing platform. You will use your own laptop to learn about software and protocols\, create and modify workflows\, and diagnose/treat problematic data utilizing high performance computing. Exercises will be performed with provided datasets\, using command-line interaction. \n  \nWho should attend? … Prior course participants have included faculty\, post docs\, grad students\, staff\, and industry researchers. \nWhat are the prerequisites? … There are no prerequisites other than familiarity with general biological concepts and an enthusiasm for learning bioinformatics data analysis. Anyone with an interest in RNA sequence analysis is welcome! \nHow do I register? … For more information\, and to register\, go to https://registration.genomecenter.ucdavis.edu/. All registration is “first-come\, first-served”. There is no application process. \nHow much does it cost? … The registration fee is $1\,400 for UC and UC affiliates\, $1\,600 for other academic or non-profit participants and $2\,000 for other participants.  Registration fees include light breakfast\, lunch\, and snacks. \nWhere can I find more information\, including your policies?  … Go to our website (bioinformatics.ucdavis.edu/training/) and check out our FAQ and Policies. \nQuestions? \nIf you have any questions\, please don’t hesitate to contact us at training.bioinformatics@ucdavis.edu \nThe UC Davis Bioinformatics Core Team \nhttp://bioinformatics.ucdavis.edu/ \nEmail List Note:  If you received this email directly from training.bioinformatics@ucdavis.edu\, you are currently subscribed to one of our announcements lists. To subscribe / unsubscribe from the Bioinformatics Core email lists\, please follow the instructions at http://bioinformatics.ucdavis.edu/contact-us/. \nTwitterFacebookPress ThisLinkedInEmailMorePrintRedditWhatsAppTumblrPocketPinterestLike this:Like Loading...\n\n	Related\n
URL:https://microbe.net/event/uc-davis-bioinformatics-rna-seq-workshop-davis-ca/
CATEGORIES:Workshop/Meeting
END:VEVENT
END:VCALENDAR