BEGIN:VCALENDAR
VERSION:2.0
PRODID:-//microBEnet: the microbiology of the Built Environment network - ECPv4.6.18//NONSGML v1.0//EN
CALSCALE:GREGORIAN
METHOD:PUBLISH
X-WR-CALNAME:microBEnet: the microbiology of the Built Environment network
X-ORIGINAL-URL:https://microbe.net
X-WR-CALDESC:Events for microBEnet: the microbiology of the Built Environment network
BEGIN:VEVENT
DTSTART;VALUE=DATE:20140414
DTEND;VALUE=DATE:20140418
DTSTAMP:20260421T080238
CREATED:20131021T164939Z
LAST-MODIFIED:20131021T164939Z
UID:14781-1397433600-1397779199@microbe.net
SUMMARY:UK Society for General Microbiology\, Annual Conference (Liverpool\, UK)
DESCRIPTION:UK Society for General Microbiology’s (SGM) Annual Conference\nLiverpool\, UK\nApril 14-17\, 2014 \nMore information \nTwitterFacebookPress ThisLinkedInEmailMorePrintRedditWhatsAppTumblrPocketPinterestLike this:Like Loading...\n\n	Related\n
URL:https://microbe.net/event/uk-society-for-general-microbiology-annual-conference-liverpool-uk/
CATEGORIES:Conference
END:VEVENT
END:VCALENDAR