BEGIN:VCALENDAR
VERSION:2.0
PRODID:-//microBEnet: the microbiology of the Built Environment network - ECPv4.6.18//NONSGML v1.0//EN
CALSCALE:GREGORIAN
METHOD:PUBLISH
X-WR-CALNAME:microBEnet: the microbiology of the Built Environment network
X-ORIGINAL-URL:https://microbe.net
X-WR-CALDESC:Events for microBEnet: the microbiology of the Built Environment network
BEGIN:VEVENT
DTSTART;VALUE=DATE:20160701
DTEND;VALUE=DATE:20160703
DTSTAMP:20260421T045111
CREATED:20160516T184237Z
LAST-MODIFIED:20160516T184237Z
UID:46266-1467331200-1467503999@microbe.net
SUMMARY:Urban Metagenomics International Meeting (China)
DESCRIPTION:Urban Metagenomics International Meeting \nFrom event organizers: \nWe are accepting abstracts and poster proposals for the 2016 MetaSUB Consortium Meeting (Metagenomics and Metadesign of Subways and Urban Biomes) until May 30. For details\, please see our EventBrite Page here. \nThe meeting takes place at Fudan University in Shanghai\, China on July 1-2. \nRegistration for the International Summit is free\, and open to all\, thanks to the meeting and planning support from the Alfred P. Sloan Foundation. Travel and additional meeting support are also provided by QIAGEN\, Promega\, Illumina\, OneCodex\, and CosmosID. \nWe will also broadcast the meeting online for those who cannot make it in person.  Hope to see you there! \nTwitterFacebookPress ThisLinkedInEmailMorePrintRedditWhatsAppTumblrPocketPinterestLike this:Like Loading...\n\n	Related\n
URL:https://microbe.net/event/urban-metagenomics-international-meeting-china/
CATEGORIES:Workshop/Meeting
END:VEVENT
END:VCALENDAR