BEGIN:VCALENDAR
VERSION:2.0
PRODID:-//microBEnet: the microbiology of the Built Environment network - ECPv4.6.18//NONSGML v1.0//EN
CALSCALE:GREGORIAN
METHOD:PUBLISH
X-WR-CALNAME:microBEnet: the microbiology of the Built Environment network
X-ORIGINAL-URL:https://microbe.net
X-WR-CALDESC:Events for microBEnet: the microbiology of the Built Environment network
BEGIN:VEVENT
DTSTART;VALUE=DATE:20140426
DTEND;VALUE=DATE:20140428
DTSTAMP:20260421T075654
CREATED:20140326T145611Z
LAST-MODIFIED:20140326T145611Z
UID:15385-1398470400-1398643199@microbe.net
SUMMARY:Workshop Weekend: Arduino
DESCRIPTION:Workshop Weekend: Arduino \nKickstart your Arduino project!\nLearn the basics of Arduino and electronics\, and get help from the experts. All in one weekend. \nJoin us April 26-27\, 2014 at Tech Liminal in Oakland \nTwitterFacebookPress ThisLinkedInEmailMorePrintRedditWhatsAppTumblrPocketPinterestLike this:Like Loading...\n\n	Related\n
URL:https://microbe.net/event/workshop-weekend-arduino/
LOCATION:Oakland\, CA\, United States
CATEGORIES:Training
END:VEVENT
END:VCALENDAR